BEGIN:VCALENDAR
VERSION:2.0
PRODID:-//eventon.com NONSGML v1.0//EN
CALSCALE:GREGORIAN
METHOD:PUBLISH
BEGIN:VEVENT
UID:69e89daf07fba
DTSTAMP:20260422T100639Z
DTSTART:20180113T110000Z
DTEND:20180113T205000Z
LOCATION:HaydarpaÅŸa GarÄ±
SUMMARY:SevdalÄ±nÄ±z KomÃ¼nisttir
DESCRIPTION:NÃ¢zÄ±mâ€™Ä±n\,  sevgili ÅŸairimizin 116. doÄŸum gÃ¼nÃ¼nÃ¼ kutl
 uyoruz. â€œKomÃ¼nist oldum olalÄ±\,  gÃ¼zel sanatlardan beklediÄŸim\,  iste
 diÄŸim ÅŸey\,  halka hizmetleri\,  halkÄ± gÃ¼zel gÃ¼nlere Ã§aÄŸÄ±rmalarÄ±dÄ
 ±r. HalkÄ±mÄ±zÄ±n acÄ±sÄ±na\,  Ã¶fkesine\,  umuduna\,  sevincine\,  hasreti
 ne tercÃ¼man olmalarÄ±dÄ±r. Sanat anlayÄ±ÅŸÄ±mda deÄŸiÅŸmeyen iÅŸte budur. 
 Geri yanÄ± boyuna deÄŸiÅŸti\,  deÄŸiÅŸiyor\,  deÄŸiÅŸecek. DeÄŸiÅŸmeyeni en
  dokunaklÄ±\,  en usta\,  en faydalÄ±\,  en gÃ¼zel\,  en[..]\nhttps://www.n
 hkm.org.tr/etkinlikler/sevdaliniz-komunisttir/
URL:https://www.nhkm.org.tr/etkinlikler/sevdaliniz-komunisttir/
END:VEVENT
END:VCALENDAR