BEGIN:VCALENDAR
VERSION:2.0
PRODID:-//eventon.com NONSGML v1.0//EN
CALSCALE:GREGORIAN
METHOD:PUBLISH
BEGIN:VEVENT
UID:69e6391b85733
DTSTAMP:20260420T143259Z
DTSTART:20171006T170000Z
DTEND:20171006T205000Z
LOCATION:NÃ¢zÄ±m Hikmet KÃ¼ltÃ¼r Merkezi - KadÄ±kÃ¶y Bahariye Caddesi Ali Suavi Sokak No: 7 34714 KadÄ±kÃ¶y Ä°stanbul
SUMMARY:YÃ¼rÃ¼yen Merdiven ft. Angelika Niescier
DESCRIPTION:Mustafa Kemal Emirel ve YiÄŸit Ã–zatalay&#8217;Ä± birbirine baÄ
 Ÿlayan hem derin bir dostluk\,  hem de on yÄ±lÄ± aÅŸkÄ±n mÃ¼zikal bir yolcu
 luk.. Bu yolculuÄŸun Ã¼rÃ¼nÃ¼ olan YÃ¼rÃ¼yen Merdiven\,  kendi bestelerini 
 Ã§alan bir davul-piyano ikilisi olarak 2014 yÄ±lÄ±nda dÃ¼nyaya geldi ve 201
 6 yazÄ±nda ilk albÃ¼mÃ¼ &#8220;Ã‡Ä±nar\,  GÃ¼neÅŸ ve Bir Deli&#8221;yi yayÄ
 ±nladÄ±. Mekanik bir[..]\nhttps://www.nhkm.org.tr/etkinlikler/yuruyen-merdi
 ven-ft-angelika-niescier/
URL:https://www.nhkm.org.tr/etkinlikler/yuruyen-merdiven-ft-angelika-niescier/
END:VEVENT
END:VCALENDAR