BEGIN:VCALENDAR
VERSION:2.0
PRODID:-//eventon.com NONSGML v1.0//EN
CALSCALE:GREGORIAN
METHOD:PUBLISH
BEGIN:VEVENT
UID:69e6a17d37344
DTSTAMP:20260420T215821Z
DTSTART:20260516T173000Z
DTEND:20260516T205900Z
LOCATION:Nâzım Hikmet Kültür Merkezi - Kadıköy Bahariye Caddesi Ali Suavi Sokak No: 7 34714 Kadıköy İstanbul
SUMMARY:Oyun: Maria Suphi: Karadeniz’de Bir Komsomolka Hayaleti
DESCRIPTION:Oyun: Maria Suphi: Karadeniz’de Bir Komsomolka Hayaleti “Ma
 ria Suphi: Karadeniz’de Bir Komsomolka Hayaleti”\,  devrimin umutlarıy
 la Anadolu’ya gelen genç bir komsomolkanın gözünden aşkı\,  mücade
 leyi ve trajediyi anlatıyor.Sovyetler Birliği’nde başlayan bu hikâye\
 ,  Türkiye Komünist Partisi’nin kuruluşunun ardından Anadolu’ya ge
 işle yeni bir yön kazanır.1921 yılında Karadeniz’in karanlık sular
 ında kaybolan bir kuşağın hikâyesi… Trabzon’da[..]\nhttps://www.nh
 km.org.tr/etkinlikler/oyun-maria-suphi-karadenizde-bir-komsomolka-hayaleti/
URL:https://www.nhkm.org.tr/etkinlikler/oyun-maria-suphi-karadenizde-bir-komsomolka-hayaleti/
END:VEVENT
END:VCALENDAR