BEGIN:VCALENDAR
VERSION:2.0
PRODID:-//eventon.com NONSGML v1.0//EN
CALSCALE:GREGORIAN
METHOD:PUBLISH
BEGIN:VEVENT
UID:69e6a0dfa789b
DTSTAMP:20260420T215543Z
DTSTART:20260515T170000Z
DTEND:20260515T205900Z
LOCATION:NÃ¢zÄ±m Hikmet KÃ¼ltÃ¼r Merkezi - KadÄ±kÃ¶y Bahariye Caddesi Ali Suavi Sokak No: 7 34714 KadÄ±kÃ¶y Ä°stanbul
SUMMARY:Konser: Hemhal
DESCRIPTION:Konser: Hemhal Â  Duduk sanatÃ§Ä±sÄ± Ä°lbeÄŸi Can Erzincan Hemh
 Ã¢l ile dinleyicisiyle buluÅŸuyor. Anadoluâ€™nun kadim sazÄ± olan Duduk\,  
 aÅŸÄ±ÄŸÄ±n maÅŸukuna olan sevdasÄ±nÄ±\,  bazen rÃ¼zgÃ¢rÄ±n yeline gizlenmiÅ
 Ÿ bir ÅŸiir ile bazen de\,  bir derviÅŸin ahuzarÄ±nÄ± anlatan tÃ¼rkÃ¼ ile d
 inletecek bizlere. SanatÃ§Ä±mÄ±zÄ±n deyimiyle; Â  â€˜â€™HemhÃ¢l kalbim ile 
 parmaklarÄ±m arasÄ±ndaki yolculuÄŸumdur.â€™â€™ Â  Bu yolculukta[..]\nhttps:
 //www.nhkm.org.tr/etkinlikler/konser-hemhal/
URL:https://www.nhkm.org.tr/etkinlikler/konser-hemhal/
END:VEVENT
END:VCALENDAR