BEGIN:VCALENDAR
VERSION:2.0
PRODID:-//eventon.com NONSGML v1.0//EN
CALSCALE:GREGORIAN
METHOD:PUBLISH
BEGIN:VEVENT
UID:69e637976afb2
DTSTAMP:20260420T142631Z
DTSTART:20190222T170000Z
DTEND:20190222T205000Z
LOCATION:Nâzım Hikmet Kültür Merkezi - Kadıköy Bahariye Caddesi Ali Suavi Sokak No: 7 34714 Kadıköy İstanbul
SUMMARY:Yürüyen Merdiven
DESCRIPTION:Mustafa Kemal Emirel ile Yiğit Özatalay&#8217;ı birbirine ba
 ğlayan\,  derin bir dostluk.. “Yok mu\,  Var” adlı ikinci albümlerin
 e taşıyan ise 15 yıllık müzikal bir yolculuk.. Yürüyen Merdiven meka
 nik bir yürüyen merdiven değil\,  iki bacaklı bir organizma; ayakta dur
 abilmesi ve dans edebilmesi ikili bir dengeye ve onun müzikal birlikteliğ
 ine bağlı. Davulun melodik[..]\nhttps://www.nhkm.org.tr/etkinlikler/yuruy
 en-merdiven-3/
URL:https://www.nhkm.org.tr/etkinlikler/yuruyen-merdiven-3/
END:VEVENT
END:VCALENDAR