BEGIN:VCALENDAR
VERSION:2.0
PRODID:-//eventon.com NONSGML v1.0//EN
CALSCALE:GREGORIAN
METHOD:PUBLISH
BEGIN:VEVENT
UID:69e78aa6281ce
DTSTAMP:20260421T143310Z
DTSTART:20180428T170000Z
DTEND:20180428T205000Z
LOCATION:Nâzım Hikmet Kültür Merkezi - Kadıköy Bahariye Caddesi Ali Suavi Sokak No: 7 34714 Kadıköy İstanbul
SUMMARY:Sıfır Noktası
DESCRIPTION:Hikâyelerini; farklı rock soundlarıyla anlatmaya çalışan 
 “Sıfır Noktası” grubu\,  2015 yılında kuruldu. Aktif halde konser 
 vermeye 2017 yılında başladı. Çoğu üyesi Eskişehir’de yaşayan gr
 up; İstanbul\,  Ankara gibi büyük şehirlerde de konserler veriyor. Kuru
 luşundan bu yana parçaların iskeletini ve temel bakış açısını olu
 turan grup\,  ilk günden beri çizgisini bozmayan sözlerle akıllara[..]
 \nhttps://www.nhkm.org.tr/etkinlikler/sifir-noktasi/
URL:https://www.nhkm.org.tr/etkinlikler/sifir-noktasi/
END:VEVENT
END:VCALENDAR