BEGIN:VCALENDAR
VERSION:2.0
PRODID:-//eventon.com NONSGML v1.0//EN
CALSCALE:GREGORIAN
METHOD:PUBLISH
BEGIN:VEVENT
UID:69e7922de3d69
DTSTAMP:20260421T150517Z
DTSTART:20180328T173000Z
DTEND:20180328T205000Z
LOCATION:Nâzım Hikmet Kültür Merkezi - Kadıköy Bahariye Caddesi Ali Suavi Sokak No: 7 34714 Kadıköy İstanbul
SUMMARY:Ran
DESCRIPTION:Karanlığa karşı\,  yaşasın tiyatro! Tarih boyunca gerici 
 iktidarların politikalarına karşı aydınlanma savaşının en önemli k
 alelerinden biri olmuştur tiyatro sanatı.  Nâzım Hikmet Kültür Merke
 zi olarak son yıllarda tiyatroların üzerindeki artan baskılara\,  yasak
 lamalara ve sansür girişimlerine karşı mart ayında daha çok oyuna yer
  verdik. Sizi sahne ışıklarının altına\,  tiyatronun aydınlığına 
 davet ediyoruz.[..]\nhttps://www.nhkm.org.tr/etkinlikler/ran/
URL:https://www.nhkm.org.tr/etkinlikler/ran/
END:VEVENT
END:VCALENDAR